BEGIN:VCALENDAR
VERSION:2.0
PRODID:-//hacksw/handcal//NONSGML v1.0//EN
CALSCALE:GREGORIAN
X-WR-TIMEZONE:Europe/Paris
BEGIN:VEVENT
LOCATION:Talrestaurant\, Jakobsbad\, St. Josefstrasse 2\, CH-9108 Jakobsbad
SUMMARY:Vom Ausflugsziel zur Marke: Ein Blick hinter die Kulissen der Erlebniswelt Kronberg mit Generalversammlung
DESCRIPTION:Die Kronberg AG hat in den letzten Jahren viel investiert\; der Kronberg gilt als eines der attraktivsten Ausflugsziele der Ostschweiz. Der Geschäftsführer und ehemalige TVO-Journalist Felix Merz empfängt uns im erst kürzlich eröffneten neuen Talrestaurant. Am gleichen Abend findet unsere Generalversammlung statt.
DTSTART:20260507T163000Z
DTEND:20260507T183000Z
DTSTAMP:20260421T091903Z
UID:69e741072d793
END:VEVENT
END:VCALENDAR